Workbook
Name HelpAanpassen: Handleiding!$B$25
Name HelpBegroting: Handleiding!$B$22
Name HelpDisclaimer: Handleiding!$B$28
Name HelpInleiding: Handleiding!$B$11
Name HelpInstall: Handleiding!$B$13
Name HelpInventaris: Handleiding!$B$18
Name HelpInvoeren: Handleiding!$B$16
Name HelpJaarrek: Handleiding!$B$20
Name Ontvangsten: Ontvangsten!$A$6:$T$37
Name StaatOntvUitg: Jaarrekening!$B$10:$E$16
Name StaatVermogen: Jaarrekening!$B$30:$E$47
Name Uitgaven: Uitgaven!$A$6:$T$37

Sheet Handleiding
B1: Handleiding
B2: Inleiding
B3: Installeren
B4: Invoeren van de boekingen
B5: Inventaris
B6: Jaarrekening
B7: Begroting
B8: Werkblad aanpassen
B9: Disclaimer
B11: Inleiding
B12: Cultuurloket vzw ontwikkelde dit werkblad dat dient als praktisch hulpmiddel bij de informatie over vzw-boekhouding – terug te vinden op www.cultuurloket.be. Het is niet bedoeld als een volledig boekhoudpakket voor kleine vzw’s, maar wel als een bruikbare tool voor kleine en startende verenigingen om hun boekhoudkundige administratie op te zetten. Het werkblad bevat enkele ingebouwde controles om de kwaliteit van de gegevensinvoer te ondersteunen. Dit sluit fouten echter niet volledig uit. Aangezien het hier gaat om een enkelvoudige boekhouding, zijn er sowieso minder controlemogelijkheden dan bij een dubbele boekhouding. Wees dus nauwkeurig. Let op: zonder grondige aanpassing (zie verder) is dit rekenblad niet geschikt voor het bijhouden van een btw-administratie.
B13: Installeren
... B29: Cultuurloket biedt geen technische ondersteuning voor het gebruik van of aanpassingen aan dit werkblad. Dit werkblad werd met de grootste zorg samengesteld. Toch kan Cultuurloket niet aansprakelijk worden gesteld voor directe of indirecte schade die voortvloeit uit het gebruik ervan. Aan de inhoud of resultaten van dit werkblad kunnen geen rechten worden ontleend. Cultuurloket biedt geen garantie op volledige correctheid, actualiteit of volledigheid van de informatie.
F38: !

Sheet vzw
A4: Identificatiegegevens
A6: Naam van de vzw | B6: Roots | C6: =IF(ISBLANK(B6),"Verplicht","")
A7: ondernemingsnummer | B7: 125663885 | C7: =IF(ISBLANK(B7),"Verplicht","")
A9: Maatschappelijke zetel:
A10: Adres | B10: straat 35 | C10: =IF(ISBLANK(B10),"Verplicht","")
A11: Postcode | B11: 2018 | C11: =IF(ISBLANK(B11),"Verplicht","")
A12: Woonplaats | B12: Antwerpen | C12: =IF(ISBLANK(B12),"Verplicht","")
A14: Gemandateerde bestuurders | B14: bestuurder 1 | C14: =IF(ISBLANK(B14),"Verplicht","")
B17: rekeningnummer | C17: Saldo op de laatste dag van vorig boekjaar: | D17: Saldo huidig boekjaar | E17: Controle: Huidige stand van de rekening
A18: Bank X rekeningnr. | B18: 5524552 | C18: 1000 | D18: =Ontvangsten!E11-Uitgaven!E11 -> 2898.77 | E18: =C18+D18 -> 3898.77
A19: Bank Y rekeningnr. | C19: 0 | D19: =Ontvangsten!G11-Uitgaven!G11 -> 0 | E19: =C19+D19 -> 0
A20: Andere zichtrekening of termijnrekening | C20: 0 | D20: =Ontvangsten!I11-Uitgaven!I11 -> 0 | E20: =C20+D20 -> 0
B21: Kas 1 | C21: 95 | D21: =Ontvangsten!K11-Uitgaven!K11 -> 0 | E21: =C21+D21 -> 95 | F21: =IF(E21<0,"FOUT: Een kas kan geen negatief saldo hebben.","")
B22: Kas 2 | C22: 0 | D22: =Ontvangsten!M11-Uitgaven!M11 -> 0 | E22: =C22+D22 -> 0 | F22: =IF(E22<0,"FOUT: Een kas kan geen negatief saldo hebben.","")
C23: Interne overboekingen (moet 0 zijn) | D23: =Ontvangsten!R11-Uitgaven!R11 -> 0 | E23: =Uitgaven!R11-Ontvangsten!R11 -> 0 | F23: =IF(E23=0,"","FOUT: Moet 0 zijn. Werden alle overboekingen zowel uit- als ingeboekt?")
C24: Totaal rekeningen | D24: =SUM(D18:D23) -> 2898.77 | E24: =SUM(E18:E23) -> 3993.77 | F24: =IF((Ontvangsten!N11-Uitgaven!N11)=SUM(E24-SUM(C18:C22)),"","FOUT: Slotcontrole moet gelijkzijn aan het totaal verschil van de inkosten en uitgaven.")
A26: Begin boekhoudkundig jaar | B26: 45292 | C26: =IF(ISBLANK(B26),"Verplicht","")
A27: Einde boekhoudkundig jaar | B27: 45657 | C27: =IF(ISBLANK(B27),"Verplicht","")
A31: Datum goedkeuring Begroting | B31: 45465 | C31: =IF(ISBLANK(B31),("Uiterlijk "&TEXT(DATE(YEAR(B26),MONTH(B26)+6,DAY(B26))-1,"dd/mm/jj")),"")
A32: Datum goedkeuring Jaarrekening | B32: 45465 | C32: =IF(ISBLANK(B32),("Uiterlijk "&TEXT(DATE(YEAR(B27),MONTH(B27)+6,DAY(B27))-1,"dd/mm/jj")),"")

Sheet Uitgaven
A1: =IF(ISBLANK(vzw!B6),"NAAM VZW",vzw!B6) -> Roots
A2: =IF(ISBLANK(vzw!B7),"Ondernemingsnummer","Ond.nr. "&vzw!B7) -> Ond.nr. 125663885
A3: =IF(ISBLANK(vzw!B10),"Adres",vzw!B10) -> straat 35
A4: =IF(ISBLANK(vzw!B11),"Woonplaats",vzw!B11&" "&vzw!B12) -> 2018 Antwerpen
A6: Bijlage A | C6: =IF(N11=SUM(O11:S11),"",T("De betalingen zijn nog niet gelijk aan de som van de categorieën ! Het verschil bedraagt: "&N11-SUM(O11:S11)&" EURO")) -> De betalingen zijn nog niet gelijk aan de som van de categorieën ! Het verschil bedraagt: 3 EURO | T6: =TODAY() -> 45825
A7: Uitgaven
A8: Nr | B8: Datum registratie | C8: Omschrijving | D8: =IF(ISBLANK(vzw!B18),"Bank X","Bankrekeningnr. "&vzw!B18) -> Bankrekeningnr. 5524552 | F8: =IF(ISBLANK(vzw!B19),"Bank Y","Bankrekeningnr. "&vzw!B19) -> Bank Y | H8: =IF(ISBLANK(vzw!B20),"Andere zichtrekeningen en gelijksoortige rekeningen","Bankrekeningnr. "&vzw!B20) -> Andere zichtrekeningen en gelijksoortige rekeningen | J8: Kas 1 | L8: Kas 2 | N8: Bedrag totaal | O8: Uitgaven
O9: Goederen en diensten | P9: Bezoldigingen | Q9: Diensten en diverse goederen | R9: Interne overboekingen | S9: Andere
D10: NR | E10: Bedrag | F10: NR | G10: Bedrag | H10: NR | I10: Bedrag | J10: NR | K10: Bedrag | L10: NR | M10: Bedrag | S10: Bedrag | T10: Omschrijving
B11: Totaal | E11: =SUBTOTAL(9,E12:E1498) -> 276.23 | G11: =SUBTOTAL(9,G12:G1498) -> 0 | I11: =SUBTOTAL(9,I12:I1498) -> 0 | K11: =SUBTOTAL(9,K12:K1498) -> 0 | M11: =SUBTOTAL(9,M12:M1498) -> 0 | N11: =SUBTOTAL(9,N12:N1498) -> 276.23 | O11: =SUBTOTAL(9,O12:O1498) -> 90 | P11: =SUBTOTAL(9,P12:P1498) -> 0 | Q11: =SUBTOTAL(9,Q12:Q1498) -> 183.23 | R11: =SUBTOTAL(9,R12:R1498) -> 0 | S11: =SUBTOTAL(9,S12:S1498) -> 0
A12: =IF(ISBLANK(B11),"",1+A11) -> 1 | B12: 45292 | C12: aankoop drank | D12: 1 | E12: 40 | N12: =IF(ISBLANK(C12),"",E12+G12+I12+K12+M12) -> 40 | O12: 40
A13: =IF(ISBLANK(C12),"",1+A12) -> 2 | B13: 45362 | C13: betaling telenet | D13: 2 | E13: 50 | N13: =IF(ISBLANK(C13),"",E13+G13+I13+K13+M13) -> 50 | O13: 50
A14: =IF(ISBLANK(C13),"",1+A13) -> 3 | B14: 45333 | C14: betaling verzekering | D14: 3 | E14: 186.23 | N14: =IF(ISBLANK(C14),"",E14+G14+I14+K14+M14) -> 186.23 | Q14: 183.23
A15: =IF(ISBLANK(C14),"",1+A14) -> 4 | N15: =IF(ISBLANK(C15),"",E15+G15+I15+K15+M15)
A16: =IF(ISBLANK(C15),"",1+A15) | N16: =IF(ISBLANK(C16),"",E16+G16+I16+K16+M16)
A17: =IF(ISBLANK(C16),"",1+A16) | N17: =IF(ISBLANK(C17),"",E17+G17+I17+K17+M17)
A18: =IF(ISBLANK(C17),"",1+A17) | N18: =IF(ISBLANK(C18),"",E18+G18+I18+K18+M18)
A19: =IF(ISBLANK(C18),"",1+A18) | N19: =IF(ISBLANK(C19),"",E19+G19+I19+K19+M19)
A20: =IF(ISBLANK(C19),"",1+A19) | N20: =IF(ISBLANK(C20),"",E20+G20+I20+K20+M20)
A21: =IF(ISBLANK(C20),"",1+A20) | N21: =IF(ISBLANK(C21),"",E21+G21+I21+K21+M21)
A22: =IF(ISBLANK(C21),"",1+A21) | N22: =IF(ISBLANK(C22),"",E22+G22+I22+K22+M22)
A23: =IF(ISBLANK(C22),"",1+A22) | N23: =IF(ISBLANK(C23),"",E23+G23+I23+K23+M23)
A24: =IF(ISBLANK(C23),"",1+A23) | N24: =IF(ISBLANK(C24),"",E24+G24+I24+K24+M24)
A25: =IF(ISBLANK(C24),"",1+A24) | N25: =IF(ISBLANK(C25),"",E25+G25+I25+K25+M25)
A26: =IF(ISBLANK(C25),"",1+A25) | N26: =IF(ISBLANK(C26),"",E26+G26+I26+K26+M26)
... A578: =IF(ISBLANK(C577),"",1+A577) | N578: =IF(ISBLANK(C578),"",E578+G578+I578+K578+M578)

Sheet Ontvangsten
A1: =IF(ISBLANK(vzw!B6),"NAAM VZW",vzw!B6) -> Roots
A2: =IF(ISBLANK(vzw!B7),"Ondernemingsnummer","Ond.nr. "&vzw!B7) -> Ond.nr. 125663885
A3: =IF(ISBLANK(vzw!B10),"Adres",vzw!B10) -> straat 35
A4: =IF(ISBLANK(vzw!B11),"Woonplaats",vzw!B11&" "&vzw!B12) -> 2018 Antwerpen
A6: Bijlage A | C6: =IF(N11=SUM(O11:S11),"",T("OPGELET de betalingen zijn niet gelijk aan de som van de categorieën ! Het verschil bedraagt: "&N11-SUM(O11:S11)&" EURO")) | T6: =TODAY() -> 45825
A7: Ontvangsten
A8: Nr | B8: Datum registratie | C8: Omschrijving | D8: =IF(ISBLANK(vzw!B18),"Bank X","Bankrekeningnr. "&vzw!B18) -> Bankrekeningnr. 5524552 | F8: =IF(ISBLANK(vzw!B19),"Bank Y","Bankrekeningnr. "&vzw!B19) -> Bank Y | H8: =IF(ISBLANK(vzw!B20),"Andere zichtrekeningen en gelijksoortige rekeningen","Bankrekeningnr. "&vzw!B20) -> Andere zichtrekeningen en gelijksoortige rekeningen | J8: Kas 1 | L8: Kas 2 | N8: Bedrag totaal | O8: Ontvangsten
O9: Lidgeld | P9: Schenkingen en legaten | Q9: Subsidies | R9: Interne overboekingen | S9: Andere
D10: NR | E10: Bedrag | F10: NR | G10: Bedrag | H10: NR | I10: Bedrag | J10: NR | K10: Bedrag | L10: NR | M10: Bedrag | S10: Bedrag | T10: Omschrijving
B11: Totaal | E11: =SUBTOTAL(9,E12:E1498) -> 3175 | G11: =SUBTOTAL(9,G12:G1498) -> 0 | I11: =SUBTOTAL(9,I12:I1498) -> 0 | K11: =SUBTOTAL(9,K12:K1498) -> 0 | M11: =SUBTOTAL(9,M12:M1498) -> 0 | N11: =SUBTOTAL(9,N12:N1498) -> 3175 | O11: =SUBTOTAL(9,O12:O1498) -> 125 | P11: =SUBTOTAL(9,P12:P1498) -> 750 | Q11: =SUBTOTAL(9,Q12:Q1498) -> 2300 | R11: =SUBTOTAL(9,R12:R1498) -> 0 | S11: =SUBTOTAL(9,S12:S1498) -> 0
A12: =IF(ISBLANK(B11),"",1+A11) -> 1 | C12: lidgeld Rayan | E12: 125 | N12: =IF(ISBLANK(C12),"",E12+G12+I12+K12+M12) -> 125 | O12: 125
A13: =IF(ISBLANK(C12),"",1+A12) -> 2 | C13: Subsidie district | E13: 2300 | N13: =IF(ISBLANK(C13),"",E13+G13+I13+K13+M13) -> 2300 | Q13: 2300
A14: =IF(ISBLANK(C13),"",1+A13) -> 3 | C14: sponsoring bakkerij Jos | E14: 750 | N14: =IF(ISBLANK(C14),"",E14+G14+I14+K14+M14) -> 750 | P14: 750
A15: =IF(ISBLANK(C14),"",1+A14) -> 4 | N15: =IF(ISBLANK(C15),"",E15+G15+I15+K15+M15)
A16: =IF(ISBLANK(C15),"",1+A15) | N16: =IF(ISBLANK(C16),"",E16+G16+I16+K16+M16)
A17: =IF(ISBLANK(C16),"",1+A16) | N17: =IF(ISBLANK(C17),"",E17+G17+I17+K17+M17)
A18: =IF(ISBLANK(C17),"",1+A17) | N18: =IF(ISBLANK(C18),"",E18+G18+I18+K18+M18)
A19: =IF(ISBLANK(C18),"",1+A18) | N19: =IF(ISBLANK(C19),"",E19+G19+I19+K19+M19)
A20: =IF(ISBLANK(C19),"",1+A19) | N20: =IF(ISBLANK(C20),"",E20+G20+I20+K20+M20)
A21: =IF(ISBLANK(C20),"",1+A20) | N21: =IF(ISBLANK(C21),"",E21+G21+I21+K21+M21)
A22: =IF(ISBLANK(C21),"",1+A21) | N22: =IF(ISBLANK(C22),"",E22+G22+I22+K22+M22)
A23: =IF(ISBLANK(C22),"",1+A22) | N23: =IF(ISBLANK(C23),"",E23+G23+I23+K23+M23)
A24: =IF(ISBLANK(C23),"",1+A23) | N24: =IF(ISBLANK(C24),"",E24+G24+I24+K24+M24)
A25: =IF(ISBLANK(C24),"",1+A24) | N25: =IF(ISBLANK(C25),"",E25+G25+I25+K25+M25)
A26: =IF(ISBLANK(C25),"",1+A25) | N26: =IF(ISBLANK(C26),"",E26+G26+I26+K26+M26)
... A578: =IF(ISBLANK(C577),"",1+A577) | N578: =IF(ISBLANK(C578),"",E578+G578+I578+K578+M578)

Sheet Inventaris
A1: =IF(ISBLANK(vzw!B6),"NAAM VZW",vzw!B6) -> Roots
A2: =IF(ISBLANK(vzw!B7),"Ondernemingsnummer","Ond.nr. "&vzw!B7) -> Ond.nr. 125663885
A3: =IF(ISBLANK(vzw!B10),"Adres",vzw!B10) -> straat 35
A4: =IF(ISBLANK(vzw!B11),"Woonplaats",vzw!B11&" "&vzw!B12) -> 2018 Antwerpen
A7: Inventaris
A8: Nr | B8: Omschrijving | C8: Aard | D8: Waarde
F9: Aard: | G9: (maak een keuze uit onderstaande lijst)
F10: Bezittingen | G10: =Jaarrekening!B32 -> Onroerende goederen behorend tot de vereniging in volle eigendom
G11: =Jaarrekening!B33 -> Andere onroerende goederen
G12: =Jaarrekening!B34 -> Machines behorend tot de vereniging in volle eigendom
G13: =Jaarrekening!B35 -> Andere machines
G14: =Jaarrekening!B36 -> Roerende goederen en rollend materieel behorend tot de vereniging in volle eigendom
G15: =Jaarrekening!B37 -> Andere roerende goederen
G16: =Jaarrekening!B38 -> Stocks
G17: =Jaarrekening!B39 -> Schuldvorderingen
G18: =Jaarrekening!B40 -> Geldbeleggingen
G19: =Jaarrekening!B41 -> Liquiditeiten
G20: =Jaarrekening!B42 -> Andere activa
F21: Schulden | G21: =Jaarrekening!D32 -> Financiële schulden
G22: =Jaarrekening!D34 -> Schulden ten aanzien van leveranciers
G23: =Jaarrekening!D36 -> Schulden ten aanzien van leden
G24: =Jaarrekening!D38 -> Fiscale, salariële en sociale schulden
G25: =Jaarrekening!D39 -> Andere schulden
F26: Rechten | G26: =Jaarrekening!B45 -> Beloofde subsidies
G27: =Jaarrekening!B46 -> Beloofde schenkingen
G28: =Jaarrekening!B47 -> Andere rechten
F29: Verplichtingen | G29: =Jaarrekening!D45 -> Hypotheken en hypotheekbeloften
G30: =Jaarrekening!D46 -> Gegeven waarborgen
G31: =Jaarrekening!D47 -> Andere verbintenissen

Sheet Jaarrekening
B1: =IF(ISBLANK(vzw!B6),"NAAM VZW",vzw!B6) -> Roots
B2: =IF(ISBLANK(vzw!B7),"Ondernemingsnummer","Ond.nr. "&vzw!B7) -> Ond.nr. 125663885
B3: =IF(ISBLANK(vzw!B10),"Adres",vzw!B10) -> straat 35
B4: =IF(ISBLANK(vzw!B11),"Woonplaats",vzw!B11&" "&vzw!B12) -> 2018 Antwerpen
B6: =T("JAARREKENING "&TEXT(vzw!B26,"dd/mm/jjjj")&" - "&TEXT(vzw!B27,"dd/mm/jjjj")) -> JAARREKENING 01/01/2024 - 31/12/2024
B7: =IF((Uitgaven!C6=""),"","Er staan fouten in het dagboek van de uitgaven. Verbeter deze eerst voor je de jaarrekening afdrukt.") -> Er staan fouten in het dagboek van de uitgaven. Verbeter deze eerst voor je de jaarrekening afdrukt.
B8: Bijlage B
B9: Staat van ontvangsten en uitgaven
B10: Uitgaven | D10: Ontvangsten
B11: Omschrijving | C11: Bedrag | D11: Omschrijving | E11: Bedrag
B12: Goederen en diensten | C12: =Uitgaven!O11 -> 90 | D12: Lidgeld | E12: =Ontvangsten!O11 -> 125
B13: Bezoldigingen | C13: =Uitgaven!P11 -> 0 | D13: Schenkingen en Legaten | E13: =Ontvangsten!P11 -> 750
B14: Diensten en diverse goederen | C14: =Uitgaven!Q11 -> 183.23 | D14: Subsidies | E14: =Ontvangsten!Q11 -> 2300
B15: Andere uitgaven | C15: =Uitgaven!S11 -> 0 | D15: Andere ontvangsten | E15: =Ontvangsten!S11 -> 0
B16: Totaal uitgaven | C16: =SUM(C12:C15) -> 273.23 | D16: Totaal ontvangsten | E16: =SUM(E12:E15) -> 3175
B19: Bijlage C
B20: Toelichting bij de Jaarrekening
B22: 1. Samenvatting van de waarderingsregels
B24: 2. Aanpassing van de waarderingsregels
B26: 3. Bijkomende inlichtingen
B29: 4. Staat van het vermogen
B30: Bezittingen | D30: Schulden
B31: Omschrijving | C31: Bedrag | D31: Omschrijving | E31: Bedrag
B32: Onroerende goederen behorend tot de vereniging in volle eigendom | C32: =SUMIF(Inventaris!$C$9:$C$1500,B32,Inventaris!$D$9:$D$1500) -> 0 | D32: Financiële schulden | E32: =SUMIF(Inventaris!$C$9:$C$1500,D32,Inventaris!$D$9:$D$1500) -> 0
B33: Andere onroerende goederen | C33: =SUMIF(Inventaris!$C$9:$C$1500,B33,Inventaris!$D$9:$D$1500) -> 0
B34: Machines behorend tot de vereniging in volle eigendom | C34: =SUMIF(Inventaris!$C$9:$C$1500,B34,Inventaris!$D$9:$D$1500) -> 0 | D34: Schulden ten aanzien van leveranciers | E34: =SUMIF(Inventaris!$C$9:$C$1500,D34,Inventaris!$D$9:$D$1500) -> 0
B35: Andere machines | C35: =SUMIF(Inventaris!$C$9:$C$1500,B35,Inventaris!$D$9:$D$1500) -> 0
B36: Roerende goederen en rollend materieel behorend tot de vereniging in volle eigendom | C36: =SUMIF(Inventaris!$C$9:$C$1500,B36,Inventaris!$D$9:$D$1500) -> 0 | D36: Schulden ten aanzien van leden | E36: =SUMIF(Inventaris!$C$9:$C$1500,D36,Inventaris!$D$9:$D$1500) -> 0
B37: Andere roerende goederen | C37: =SUMIF(Inventaris!$C$9:$C$1500,B37,Inventaris!$D$9:$D$1500) -> 0
B38: Stocks | C38: =SUMIF(Inventaris!$C$9:$C$1500,B38,Inventaris!$D$9:$D$1500) -> 0 | D38: Fiscale, salariële en sociale schulden | E38: =SUMIF(Inventaris!$C$9:$C$1500,D38,Inventaris!$D$9:$D$1500) -> 0
B39: Schuldvorderingen | C39: =SUMIF(Inventaris!$C$9:$C$1500,B39,Inventaris!$D$9:$D$1500) -> 0 | D39: Andere schulden | E39: =SUMIF(Inventaris!$C$9:$C$1500,D39,Inventaris!$D$9:$D$1500) -> 0
B40: Geldbeleggingen | C40: =SUMIF(Inventaris!$C$9:$C$1500,B40,Inventaris!$D$9:$D$1500) -> 0
B41: Liquiditeiten | C41: =SUMIF(Inventaris!$C$9:$C$1500,B41,Inventaris!$D$9:$D$1500) -> 0
B42: Andere activa | C42: =SUMIF(Inventaris!$C$9:$C$1500,B42,Inventaris!$D$9:$D$1500) -> 0
B43: Rechten | D43: Verplichtingen
B44: Omschrijving | C44: Bedrag | D44: Omschrijving | E44: Bedrag
B45: Beloofde subsidies | C45: =SUMIF(Inventaris!$C$9:$C$1500,B45,Inventaris!$D$9:$D$1500) -> 0 | D45: Hypotheken en hypotheekbeloften | E45: =SUMIF(Inventaris!$C$9:$C$1500,D45,Inventaris!$D$9:$D$1500) -> 0
B46: Beloofde schenkingen | C46: =SUMIF(Inventaris!$C$9:$C$1500,B46,Inventaris!$D$9:$D$1500) -> 0 | D46: Gegeven waarborgen | E46: =SUMIF(Inventaris!$C$9:$C$1500,D46,Inventaris!$D$9:$D$1500) -> 0
B47: Andere rechten | C47: =SUMIF(Inventaris!$C$9:$C$1500,B47,Inventaris!$D$9:$D$1500) -> 0 | D47: Andere verbintenissen | E47: =SUMIF(Inventaris!$C$9:$C$1500,D47,Inventaris!$D$9:$D$1500) -> 0
B49: 5. Belangrijke rechten en verplichtingen die niet in cijfers kunnen worden weergegeven.
B54: ="Goedgekeurd op de Algemene Vergadering van "&TEXT(vzw!B32,"dd/mm/jjjj") -> Goedgekeurd op de Algemene Vergadering van 22/06/2024
B56: Getekend:
B57: =IF(ISBLANK(vzw!B14),"naam bestuurder",vzw!B14) -> bestuurder 1 | D57: =IF(ISBLANK(vzw!B15),"",vzw!B15)

Sheet Begroting
B1: =IF(ISBLANK(vzw!B6),"NAAM VZW",vzw!B6) -> Roots
B2: =IF(ISBLANK(vzw!B7),"Ondernemingsnummer","Ond.nr. "&vzw!B7) -> Ond.nr. 125663885
B3: =IF(ISBLANK(vzw!B10),"Adres",vzw!B10) -> straat 35
B4: =IF(ISBLANK(vzw!B11),"Woonplaats",vzw!B11&" "&vzw!B12) -> 2018 Antwerpen
B6: =T("BEGROTING "&TEXT(vzw!B26,"dd/mm/jjjj")&" - "&TEXT(vzw!B27,"dd/mm/jjjj")) -> BEGROTING 01/01/2024 - 31/12/2024
B8: Begroting van ontvangsten en uitgaven
B10: Uitgaven | D10: Ontvangsten
B11: Omschrijving | C11: Bedrag | D11: Omschrijving | E11: Bedrag
B12: Goederen en diensten | D12: Lidgeld
B13: Bezoldigingen | C13: 2000 | D13: Schenkingen en Legaten
B14: Diensten en diverse goederen | D14: Subsidies
B15: Andere uitgaven | D15: Andere ontvangsten
B16: Totaal uitgaven | C16: =SUM(C12:C15) -> 2000 | D16: Totaal ontvangsten | E16: =SUM(E12:E15) -> 0
B20: Begroting van het vermogen
B21: Bezittingen | D21: Schulden
B22: Omschrijving | C22: Bedrag | D22: Omschrijving | E22: Bedrag
B23: Onroerende goederen behorend tot de vereniging in volle eigendom | D23: Financiële schulden
B24: Andere onroerende goederen
B25: Machines behorend tot de vereniging in volle eigendom | D25: Schulden ten aanzien van leveranciers
B26: Andere machines
B27: Roerende goederen en rollend materieel behorend tot de vereniging in volle eigendom | D27: Schulden ten aanzien van leden
B28: Andere roerende goederen
B29: Stocks | D29: Fiscale, salariële en sociale schulden
B30: Schuldvorderingen | D30: Andere schulden
B31: Geldbeleggingen
B32: Liquiditeiten
B33: Andere activa
B34: Totaal bezitingen | C34: =SUM(C23:C33) -> 0 | D34: Totaal schulden | E34: =SUM(E23:E33) -> 0
B37: Rechten | D37: Verplichtingen
B38: Omschrijving | C38: Bedrag | D38: Omschrijving | E38: Bedrag
B39: Beloofde subsidies | D39: Hypotheken en hypotheekbeloften
B40: Beloofde schenkingen | D40: Gegeven waarborgen
B41: Andere rechten | D41: Andere verbintenissen
B42: Totaal rechten | C42: =SUM(C39:C41) -> 0 | D42: Andere verplichtingen | E42: =SUM(E39:E41) -> 0
B45: ="Goedgekeurd op de Algemene Vergadering van "&TEXT(vzw!B31,"dd/mm/jjjj") -> Goedgekeurd op de Algemene Vergadering van 22/06/2024
B47: Getekend:
B48: =IF(ISBLANK(vzw!B5),"naam bestuurder",vzw!B5) -> naam bestuurder | D48: =IF(ISBLANK(vzw!D6),"",vzw!D6)
